BEGIN:VCALENDAR
VERSION:2.0
PRODID:-//wp-events-plugin.com//7.2.3.1//EN
TZID:Europe/Berlin
X-WR-TIMEZONE:Europe/Berlin
BEGIN:VEVENT
UID:122@frauencampus.org
DTSTART;TZID=Europe/Berlin:20260626T180000
DTEND;TZID=Europe/Berlin:20260626T234500
DTSTAMP:20260423T184858Z
URL:https://www.frauencampus.org/termine/after-work-an-der-stuerzenhuette-
 steinenberg/
SUMMARY:After-Work an der Stürzenhütte Steinenberg
DESCRIPTION:
CATEGORIES:Feste
LOCATION:Parkplatz Stürzenhütte Steinenberg\, Obersteinenberger Straße\,
  Rudersberg-Steinenberg\, 73635\, Deutschland
X-APPLE-STRUCTURED-LOCATION;VALUE=URI;X-ADDRESS=Obersteinenberger Straße\,
  Rudersberg-Steinenberg\, 73635\, Deutschland;X-APPLE-RADIUS=100;X-TITLE=P
 arkplatz Stürzenhütte Steinenberg:geo:0,0
END:VEVENT
BEGIN:VTIMEZONE
TZID:Europe/Berlin
X-LIC-LOCATION:Europe/Berlin
BEGIN:DAYLIGHT
DTSTART:20260329T030000
TZOFFSETFROM:+0100
TZOFFSETTO:+0200
TZNAME:CEST
END:DAYLIGHT
END:VTIMEZONE
END:VCALENDAR