BEGIN:VCALENDAR
VERSION:2.0
PRODID:-//wp-events-plugin.com//7.2.3.1//EN
TZID:Europe/Berlin
X-WR-TIMEZONE:Europe/Berlin
BEGIN:VEVENT
UID:121@frauencampus.org
DTSTART;TZID=Europe/Berlin:20260619T190000
DTEND;TZID=Europe/Berlin:20260619T213000
DTSTAMP:20260423T184149Z
URL:https://www.frauencampus.org/termine/netzwerktreffen-mit-impulsvortrag
 -2/
SUMMARY:Netzwerktreffen mit Impulsvortrag: Info folgt
DESCRIPTION:Jedes Quartal findet ein Netzwerktreffen statt bei dem es zu Be
 ginn einen Impulsvortrag zu einem vorab festgelegten Thema gibt. Im Anschl
 uß findet dann ein Austausch zum Thema statt. 
ATTACH;FMTTYPE=image/jpeg:https://www.frauencampus.org/wp-content/uploads/
 2019/02/adult-3368246_1920.jpg
CATEGORIES:Netzwerktreffen
LOCATION:Gemeindehaus Steinenberg\, Adelbergstuben\, Kirchplatz 2\, Rudersb
 erg-Steinenberg\, Baden-Württemberg\, 73635\, Deutschland
X-APPLE-STRUCTURED-LOCATION;VALUE=URI;X-ADDRESS=Kirchplatz 2\, Rudersberg-S
 teinenberg\, Baden-Württemberg\, 73635\, Deutschland;X-APPLE-RADIUS=100;X
 -TITLE=Gemeindehaus Steinenberg\, Adelbergstuben:geo:0,0
END:VEVENT
BEGIN:VTIMEZONE
TZID:Europe/Berlin
X-LIC-LOCATION:Europe/Berlin
BEGIN:DAYLIGHT
DTSTART:20260329T030000
TZOFFSETFROM:+0100
TZOFFSETTO:+0200
TZNAME:CEST
END:DAYLIGHT
END:VTIMEZONE
END:VCALENDAR