BEGIN:VCALENDAR
VERSION:2.0
PRODID:-//wp-events-plugin.com//7.2.3.1//EN
TZID:Europe/Berlin
X-WR-TIMEZONE:Europe/Berlin
BEGIN:VEVENT
UID:28@frauencampus.org
DTSTART;TZID=Europe/Berlin:20240912T163000
DTEND;TZID=Europe/Berlin:20240912T180000
DTSTAMP:20240902T183411Z
URL:https://www.frauencampus.org/termine/walk-talk-12-09-24/
SUMMARY:Walk & Talk
DESCRIPTION:Hast Du Lust eine Runde mit uns zu drehen? Wir gehen ca. 1\,5 S
 tunden gemeinsam spazieren\, reden\, tauschen uns aus\, und genießen die 
 Zeit an der frischen Luft. ​Im Anschluß an diese Runde werden wir im Re
 staurant am Sportpark noch etwas trinken oder ein Eis essen. ​Auch ein W
 assertretbecken ist vor Ort.Komm einfach zum Treffpunkt und lauf ein Stüc
 k mit uns. Das Angebot ist kostenlos. Alle Frauen\, auch Nicht-Mitglieder\
 , sind herzlich Willkommen. 
ATTACH;FMTTYPE=image/jpeg:https://www.frauencampus.org/wp-content/uploads/
 2024/07/Kopie-von-Frauencampus-e.V.-Walk-Talk1.jpg
CATEGORIES:Walk and Talk
LOCATION:Parkplatz Sport- und Erlebnispark Allmersbach im Tal\, Schorndorfe
 r Str. 70\, Allmersbach im Tal\, 71573 \, Deutschland
X-APPLE-STRUCTURED-LOCATION;VALUE=URI;X-ADDRESS=Schorndorfer Str. 70\, Allm
 ersbach im Tal\, 71573 \, Deutschland;X-APPLE-RADIUS=100;X-TITLE=Parkplatz
  Sport- und Erlebnispark Allmersbach im Tal:geo:0,0
END:VEVENT
BEGIN:VTIMEZONE
TZID:Europe/Berlin
X-LIC-LOCATION:Europe/Berlin
BEGIN:DAYLIGHT
DTSTART:20240331T030000
TZOFFSETFROM:+0100
TZOFFSETTO:+0200
TZNAME:CEST
END:DAYLIGHT
END:VTIMEZONE
END:VCALENDAR