BEGIN:VCALENDAR
VERSION:2.0
PRODID:-//wp-events-plugin.com//7.2.3.1//EN
TZID:Europe/Berlin
X-WR-TIMEZONE:Europe/Berlin
BEGIN:VEVENT
UID:33@frauencampus.org
DTSTART;TZID=Europe/Berlin:20241107T160000
DTEND;TZID=Europe/Berlin:20241107T173000
DTSTAMP:20241028T173213Z
URL:https://www.frauencampus.org/termine/walk-talk-17/
SUMMARY:Walk & Talk
DESCRIPTION:Hast Du Lust eine Runde mit uns zu drehen? Wir gehen ca. 1- 1\,
 5 Stunden gemeinsam spazieren\, reden\, tauschen uns aus\, und genießen d
 ie Zeit an der frischen Luft. Komm einfach zum Treffpunkt und lauf ein St
 ück mit uns. Das Angebot ist kostenlos. Alle Frauen\, auch Nicht-Mitglied
 er\, sind herzlich Willkommen.
ATTACH;FMTTYPE=image/jpeg:https://www.frauencampus.org/wp-content/uploads/
 2024/02/Kopie-von-Frauencampus-e.V.-Walk-Talk.jpg
CATEGORIES:Walk and Talk
LOCATION:Bahnhof Oberndorf\, Bahnhof\, Oberndorf\, 73635\, Deutschland
X-APPLE-STRUCTURED-LOCATION;VALUE=URI;X-ADDRESS=Bahnhof\, Oberndorf\, 73635
 \, Deutschland;X-APPLE-RADIUS=100;X-TITLE=Bahnhof Oberndorf:geo:0,0
END:VEVENT
BEGIN:VTIMEZONE
TZID:Europe/Berlin
X-LIC-LOCATION:Europe/Berlin
BEGIN:STANDARD
DTSTART:20241027T020000
TZOFFSETFROM:+0200
TZOFFSETTO:+0100
TZNAME:CET
END:STANDARD
END:VTIMEZONE
END:VCALENDAR