BEGIN:VCALENDAR
VERSION:2.0
PRODID:-//wp-events-plugin.com//7.2.3.1//EN
TZID:Europe/Berlin
X-WR-TIMEZONE:Europe/Berlin
BEGIN:VEVENT
UID:117@frauencampus.org
DTSTART;TZID=Europe/Berlin:20260521T163000
DTEND;TZID=Europe/Berlin:20260521T180000
DTSTAMP:20260420T182145Z
URL:https://www.frauencampus.org/termine/walk-talk-53/
SUMMARY:Walk & Talk
DESCRIPTION:Hast Du Lust eine Runde mit uns zu drehen? Wir gehen ca. 1-1\,5
  Stunden gemeinsam spazieren\, reden\, tauschen uns aus\, und genießen di
 e Zeit an der frischen Luft. Komm einfach zum Treffpunkt und lauf ein Stü
 ck mit uns. Festes Schuhwerk ​wird empfohlen. Das Angebot ist kostenlos.
  Alle Frauen\, auch Nicht-Mitglieder\, sind herzlich Willkommen.
ATTACH;FMTTYPE=image/jpeg:https://www.frauencampus.org/wp-content/uploads/
 2024/07/Kopie-von-Frauencampus-e.V.-Walk-Talk1.jpg
CATEGORIES:Walk and Talk
LOCATION:Parkplatz Sohl\, an der L1080 zwischen Seelach und Moto-Cross Stre
 cke\, Rudersberg\, 73635\, Deutschland
X-APPLE-STRUCTURED-LOCATION;VALUE=URI;X-ADDRESS=an der L1080 zwischen Seela
 ch und Moto-Cross Strecke\, Rudersberg\, 73635\, Deutschland;X-APPLE-RADIU
 S=100;X-TITLE=Parkplatz Sohl:geo:0,0
END:VEVENT
BEGIN:VTIMEZONE
TZID:Europe/Berlin
X-LIC-LOCATION:Europe/Berlin
BEGIN:DAYLIGHT
DTSTART:20260329T030000
TZOFFSETFROM:+0100
TZOFFSETTO:+0200
TZNAME:CEST
END:DAYLIGHT
END:VTIMEZONE
END:VCALENDAR