BEGIN:VCALENDAR
VERSION:2.0
PRODID:-//wp-events-plugin.com//7.2.3.1//EN
TZID:Europe/Berlin
X-WR-TIMEZONE:Europe/Berlin
BEGIN:VEVENT
UID:119@frauencampus.org
DTSTART;TZID=Europe/Berlin:20260702T163000
DTEND;TZID=Europe/Berlin:20260702T180000
DTSTAMP:20260423T183653Z
URL:https://www.frauencampus.org/termine/walk-talk-55/
SUMMARY:Walk & Talk
DESCRIPTION:Hast Du Lust eine Runde mit uns zu drehen? Wir gehen ca. 1-1\,5
  Stunden gemeinsam spazieren\, reden\, tauschen uns aus\, und genießen di
 e Zeit an der frischen Luft. Komm einfach zum Treffpunkt und lauf ein Stü
 ck mit uns. Festes Schuhwerk ​wird empfohlen. Das Angebot ist kostenlos.
  Alle Frauen\, auch Nicht-Mitglieder\, sind herzlich Willkommen.
ATTACH;FMTTYPE=image/jpeg:https://www.frauencampus.org/wp-content/uploads/
 2024/07/Kopie-von-Frauencampus-e.V.-Walk-Talk1.jpg
CATEGORIES:Walk and Talk
LOCATION:Parkplatz Sport- und Erlebnispark Allmersbach im Tal\, Schorndorfe
 r Str. 70\, Allmersbach im Tal\, 71573 \, Deutschland
X-APPLE-STRUCTURED-LOCATION;VALUE=URI;X-ADDRESS=Schorndorfer Str. 70\, Allm
 ersbach im Tal\, 71573 \, Deutschland;X-APPLE-RADIUS=100;X-TITLE=Parkplatz
  Sport- und Erlebnispark Allmersbach im Tal:geo:0,0
END:VEVENT
BEGIN:VTIMEZONE
TZID:Europe/Berlin
X-LIC-LOCATION:Europe/Berlin
BEGIN:DAYLIGHT
DTSTART:20260329T030000
TZOFFSETFROM:+0100
TZOFFSETTO:+0200
TZNAME:CEST
END:DAYLIGHT
END:VTIMEZONE
END:VCALENDAR